BEGIN:VCALENDAR
VERSION:2.0
PRODID:-//Sheboygan County Cycling - ECPv6.15.18//NONSGML v1.0//EN
CALSCALE:GREGORIAN
METHOD:PUBLISH
X-ORIGINAL-URL:https://sheboygancountycycling.org
X-WR-CALDESC:Events for Sheboygan County Cycling
REFRESH-INTERVAL;VALUE=DURATION:PT1H
X-Robots-Tag:noindex
X-PUBLISHED-TTL:PT1H
BEGIN:VTIMEZONE
TZID:America/Chicago
BEGIN:DAYLIGHT
TZOFFSETFROM:-0600
TZOFFSETTO:-0500
TZNAME:CDT
DTSTART:20250309T080000
END:DAYLIGHT
BEGIN:STANDARD
TZOFFSETFROM:-0500
TZOFFSETTO:-0600
TZNAME:CST
DTSTART:20251102T070000
END:STANDARD
BEGIN:DAYLIGHT
TZOFFSETFROM:-0600
TZOFFSETTO:-0500
TZNAME:CDT
DTSTART:20260308T080000
END:DAYLIGHT
BEGIN:STANDARD
TZOFFSETFROM:-0500
TZOFFSETTO:-0600
TZNAME:CST
DTSTART:20261101T070000
END:STANDARD
BEGIN:DAYLIGHT
TZOFFSETFROM:-0600
TZOFFSETTO:-0500
TZNAME:CDT
DTSTART:20270314T080000
END:DAYLIGHT
BEGIN:STANDARD
TZOFFSETFROM:-0500
TZOFFSETTO:-0600
TZNAME:CST
DTSTART:20271107T070000
END:STANDARD
END:VTIMEZONE
BEGIN:VEVENT
DTSTART;TZID=America/Chicago:20260502T100000
DTEND;TZID=America/Chicago:20260502T120000
DTSTAMP:20260422T122216
CREATED:20260421T191732Z
LAST-MODIFIED:20260422T160434Z
UID:1389-1777716000-1777723200@sheboygancountycycling.org
SUMMARY:International Women's Mountain Biking Day Group Ride
DESCRIPTION:Let’s celebrate International Women’s Mountain Biking Day with a group ride at Evergreen Park!\nSaturday\, May 2nd at 10:00 am\nMeet at the main parking lot in Evergreen Park\, Sheboygan.\nGoogle map location: https://maps.app.goo.gl/gVWRBgZCmPxmFeqb9 \n-No drop group ride\n-1 to 1.5 hour ride\n-Mountain bikes and fat bikes welcome\n-If you need a bike\, message us and will try and find one for you\n-Helmets required \nRefreshments after at Evergreen or at 3 Sheeps Brewing depending on weather. \nFollow us on Facebook for updates: https://www.facebook.com/events/1664560274894854/  \n 
URL:https://sheboygancountycycling.org/event/international-womens-mountain-biking-day-group-ride/
LOCATION:Evergreen Park Sheboygan\, 3000 Calumet Drive\, Sheboygan\, WI\, 53083
CATEGORIES:Evergreen Park Sheboygan,Group Rides
ATTACH;FMTTYPE=image/jpeg:https://sheboygancountycycling.org/wp-content/uploads/2026/04/050226-international-womens-mtb-day-group-ride-sheboygan-county-cycling.jpg
END:VEVENT
BEGIN:VEVENT
DTSTART;TZID=America/Chicago:20260506T160000
DTEND;TZID=America/Chicago:20260506T190000
DTSTAMP:20260422T122216
CREATED:20260421T192631Z
LAST-MODIFIED:20260421T192631Z
UID:1392-1778083200-1778094000@sheboygancountycycling.org
SUMMARY:Evergreen Park Trail Care Day - Spring Cleaning
DESCRIPTION:Date: Wednesday\, May 6th\, 2025Time: 4:00 pmLocation: Main parking lot in Evergreen Park\nGoogle map location: https://maps.app.goo.gl/gVWRBgZCmPxmFeqb9\n\nThe focus will be on clearing fallen branches and leaves\, and cleaning up some spring damage.\n\nWhat you should bring:\n\nLandscaping and leaf rakes\, leaf blower if you have one.\nBikes to ride out to work locations.\n\nImportant notes:• SCC will provide beverages and snacks for all volunteers!• Meet at the main parking lot in Evergreen for volunteer check-in.• Come and have a great time with friends while we get the trails in shape for the season!
URL:https://sheboygancountycycling.org/event/evergreen-park-trail-care-day-spring-cleaning/
LOCATION:Evergreen Park Sheboygan\, 3000 Calumet Drive\, Sheboygan\, WI\, 53083
CATEGORIES:Evergreen Park Sheboygan,Trail Care Day
ATTACH;FMTTYPE=image/jpeg:https://sheboygancountycycling.org/wp-content/uploads/2026/04/050626-spring-evergreen-park-trail-care-day-sheboygan-county-cycling.jpg
END:VEVENT
END:VCALENDAR