BEGIN:VCALENDAR
VERSION:2.0
PRODID:-//Sheboygan County Cycling - ECPv6.15.18//NONSGML v1.0//EN
CALSCALE:GREGORIAN
METHOD:PUBLISH
X-WR-CALNAME:Sheboygan County Cycling
X-ORIGINAL-URL:https://sheboygancountycycling.org
X-WR-CALDESC:Events for Sheboygan County Cycling
REFRESH-INTERVAL;VALUE=DURATION:PT1H
X-Robots-Tag:noindex
X-PUBLISHED-TTL:PT1H
BEGIN:VTIMEZONE
TZID:America/Chicago
BEGIN:DAYLIGHT
TZOFFSETFROM:-0600
TZOFFSETTO:-0500
TZNAME:CDT
DTSTART:20230312T080000
END:DAYLIGHT
BEGIN:STANDARD
TZOFFSETFROM:-0500
TZOFFSETTO:-0600
TZNAME:CST
DTSTART:20231105T070000
END:STANDARD
BEGIN:DAYLIGHT
TZOFFSETFROM:-0600
TZOFFSETTO:-0500
TZNAME:CDT
DTSTART:20240310T080000
END:DAYLIGHT
BEGIN:STANDARD
TZOFFSETFROM:-0500
TZOFFSETTO:-0600
TZNAME:CST
DTSTART:20241103T070000
END:STANDARD
BEGIN:DAYLIGHT
TZOFFSETFROM:-0600
TZOFFSETTO:-0500
TZNAME:CDT
DTSTART:20250309T080000
END:DAYLIGHT
BEGIN:STANDARD
TZOFFSETFROM:-0500
TZOFFSETTO:-0600
TZNAME:CST
DTSTART:20251102T070000
END:STANDARD
BEGIN:DAYLIGHT
TZOFFSETFROM:-0600
TZOFFSETTO:-0500
TZNAME:CDT
DTSTART:20260308T080000
END:DAYLIGHT
BEGIN:STANDARD
TZOFFSETFROM:-0500
TZOFFSETTO:-0600
TZNAME:CST
DTSTART:20261101T070000
END:STANDARD
END:VTIMEZONE
BEGIN:VEVENT
DTSTART;TZID=America/Chicago:20251214T154500
DTEND;TZID=America/Chicago:20251214T180000
DTSTAMP:20260422T134557
CREATED:20251103T201223Z
LAST-MODIFIED:20251208T202259Z
UID:1238-1765727100-1765735200@sheboygancountycycling.org
SUMMARY:2025 Making Spirits Bright Group Ride NEW DATE
DESCRIPTION:WE HAVE A NEW DATE!\nSunday\, December 14th\, 2025\, 3:45-6:00 pm\n\nFollow our Facebook event for updates! \nJoin us for a Jolly Jaunt through the Making Spirits Bright Holiday Light Show in Evergreen Park! Evergreen Park will be closed to vehicle traffic\, making this a safe\, all ages and all abilities bike ride! \nMeet at Shaw Family Playground at 3:45 pm for cookies and cocoa\, a group photo\, and to gather non perishable food items for a group donation to the Sheboygan County Food Bank. Last year we donated 287 pounds of food and around 100 riders participated. *There will be several spots in the parking lot reserved for MSB volunteers. There is plenty of street parking available if needed. \nAs in past years\, we will split into groups:\n4:15 pm – First wave: experienced and faster riders\n4:20 pm – Second wave: families\, kids\, and slower riders\n*We need to be finished and off the Evergreen Park road by 4:50 pm.\n5:00 pm – Dirt ride rollout (*Meet at Quarry parking lot) \nMore important details: \n\nSCC is providing free cookies and cocoa.\nDRESS FOR THE WEATHER – our later makeup date means it’s a bit colder.\nDeck your bike with festive lights and sport a costume if you’d like!\nIf you have a portable radio with an FM radio tuner that you can comfortably carry bring it along so you can hear the music the lights are choreographed to.\nThe dirt ride departs from the Quarry Building at 5:00 pm. Helmets and bike lights are required. Experienced nighttime off-road riders only\, please!\n\nWe can’t wait to see you there! \nMany thanks to Fern the Photographer for sharing his great 2024 photos! \n\n\n 
URL:https://sheboygancountycycling.org/event/2025-making-spirits-bright-group-ride/
LOCATION:Shaw Family Playground in Evergreen Park\, 2614 Pine Grove Avenue\, Sheboygan\, WI\, 53083\, United States
CATEGORIES:Group Rides
ATTACH;FMTTYPE=image/jpeg:https://sheboygancountycycling.org/wp-content/uploads/2025/05/scc-group-bike-ride-making-spirits-bright-sheboygan-fern-3888.jpg
END:VEVENT
BEGIN:VEVENT
DTSTART;TZID=America/Chicago:20251011T080000
DTEND;TZID=America/Chicago:20251012T120000
DTSTAMP:20260422T134557
CREATED:20250929T165805Z
LAST-MODIFIED:20251006T192117Z
UID:1206-1760169600-1760270400@sheboygancountycycling.org
SUMMARY:Bikepacking Overnight at Greenbush Oct 11\, 2025
DESCRIPTION:Join us Saturday October 11th for an SCC Bikepacking overnighter at Greenbush!\nWe depart from Paradigm Coffee\, 1202 N 8th St in Sheboygan (overnight road parking at Paradigm). \n\nSaturday 8:00 am – gear drop off at Paradigm if you’re not carrying your own.\n12:00 pm – depart for ~25 mile ride on bike path to Greenbush Group Camp #9 (https://maps.app.goo.gl/mMUpiCmok3k1apcx6).\nDinner cooked at the campsite Saturday night (brats\, burgers\, potato salad).\nSunday breakfast is granola bars (BYO if you want more).\n9:00 am – depart Greenbush group site back to Sheboygan.\n\nFollow the event on Facebook: https://www.facebook.com/events/763355446688692 \nContact Jacob Meicher with questions and to sign up!
URL:https://sheboygancountycycling.org/event/bikepacking-overnight-at-greenbush-oct-11-2025/
CATEGORIES:Group Rides
ATTACH;FMTTYPE=image/jpeg:https://sheboygancountycycling.org/wp-content/uploads/2024/07/100524-sheboygan-county-cycling-bikepacking-overnight-kettle-moraine-greenbush.jpg
END:VEVENT
BEGIN:VEVENT
DTSTART;TZID=America/Chicago:20250911T174500
DTEND;TZID=America/Chicago:20250911T194500
DTSTAMP:20260422T134557
CREATED:20250818T203752Z
LAST-MODIFIED:20250818T203752Z
UID:1184-1757612700-1757619900@sheboygancountycycling.org
SUMMARY:Rocky Knoll Group Ride New Trails
DESCRIPTION:SCC is hosting group rides on Thursday evenings to explore the newly built trails at Rocky Knoll! Intermediate and beginner trails will be ridden on the ride. Join us for an evening of fun and see the work that has been done! \nDate: Thursdays through the 2025 riding season\nTime: 5:45 pm\nLocation: Rocky Knoll Mountain Bike Trails.\nParking: Use the northern most entrance off Highway 67 just south of Road America. Follow the signs. \nA huge thank you to all our donors\, volunteers\, and the trail builder\, Dynamic Trailworx for making this project happen!
URL:https://sheboygancountycycling.org/event/rocky-knoll-group-ride-new-trails-4/
LOCATION:Rocky Knoll Trail System\, N7135 Rocky Knoll Parkway\, Plymouth\, Wisconsin\, 53073
CATEGORIES:Group Rides,Rocky Knoll
ATTACH;FMTTYPE=image/jpeg:https://sheboygancountycycling.org/wp-content/uploads/2025/08/rocky-knoll-mtb-flow-trail-plymouth-wisconsin-sheboygan-county-cycling.jpg
END:VEVENT
BEGIN:VEVENT
DTSTART;TZID=America/Chicago:20250904T174500
DTEND;TZID=America/Chicago:20250904T194500
DTSTAMP:20260422T134557
CREATED:20250818T203641Z
LAST-MODIFIED:20250818T203641Z
UID:1182-1757007900-1757015100@sheboygancountycycling.org
SUMMARY:Rocky Knoll Group Ride New Trails
DESCRIPTION:SCC is hosting group rides on Thursday evenings to explore the newly built trails at Rocky Knoll! Intermediate and beginner trails will be ridden on the ride. Join us for an evening of fun and see the work that has been done! \nDate: Thursdays through the 2025 riding season\nTime: 5:45 pm\nLocation: Rocky Knoll Mountain Bike Trails.\nParking: Use the northern most entrance off Highway 67 just south of Road America. Follow the signs. \nA huge thank you to all our donors\, volunteers\, and the trail builder\, Dynamic Trailworx for making this project happen!
URL:https://sheboygancountycycling.org/event/rocky-knoll-group-ride-new-trails-3/
LOCATION:Rocky Knoll Trail System\, N7135 Rocky Knoll Parkway\, Plymouth\, Wisconsin\, 53073
CATEGORIES:Group Rides,Rocky Knoll
ATTACH;FMTTYPE=image/jpeg:https://sheboygancountycycling.org/wp-content/uploads/2025/08/rocky-knoll-mtb-flow-trail-plymouth-wisconsin-sheboygan-county-cycling.jpg
END:VEVENT
BEGIN:VEVENT
DTSTART;TZID=America/Chicago:20250828T174500
DTEND;TZID=America/Chicago:20250828T194500
DTSTAMP:20260422T134557
CREATED:20250818T203521Z
LAST-MODIFIED:20250818T203521Z
UID:1180-1756403100-1756410300@sheboygancountycycling.org
SUMMARY:Rocky Knoll Group Ride New Trails
DESCRIPTION:SCC is hosting group rides on Thursday evenings to explore the newly built trails at Rocky Knoll! Intermediate and beginner trails will be ridden on the ride. Join us for an evening of fun and see the work that has been done! \nDate: Thursdays through the 2025 riding season\nTime: 5:45 pm\nLocation: Rocky Knoll Mountain Bike Trails.\nParking: Use the northern most entrance off Highway 67 just south of Road America. Follow the signs. \nA huge thank you to all our donors\, volunteers\, and the trail builder\, Dynamic Trailworx for making this project happen!
URL:https://sheboygancountycycling.org/event/rocky-knoll-group-ride-new-trails-2/
LOCATION:Rocky Knoll Trail System\, N7135 Rocky Knoll Parkway\, Plymouth\, Wisconsin\, 53073
CATEGORIES:Group Rides,Rocky Knoll
ATTACH;FMTTYPE=image/jpeg:https://sheboygancountycycling.org/wp-content/uploads/2025/08/rocky-knoll-mtb-flow-trail-plymouth-wisconsin-sheboygan-county-cycling.jpg
END:VEVENT
BEGIN:VEVENT
DTSTART;TZID=America/Chicago:20250821T174500
DTEND;TZID=America/Chicago:20250821T194500
DTSTAMP:20260422T134557
CREATED:20250818T203323Z
LAST-MODIFIED:20250818T203323Z
UID:1176-1755798300-1755805500@sheboygancountycycling.org
SUMMARY:Rocky Knoll Group Ride New Trails
DESCRIPTION:SCC is hosting group rides on Thursday evenings to explore the newly built trails at Rocky Knoll! Intermediate and beginner trails will be ridden on the ride. Join us for an evening of fun and see the work that has been done! \nDate: Thursdays through the 2025 riding season\nTime: 5:45 pm\nLocation: Rocky Knoll Mountain Bike Trails.\nParking: Use the northern most entrance off Highway 67 just south of Road America. Follow the signs. \nA huge thank you to all our donors\, volunteers\, and the trail builder\, Dynamic Trailworx for making this project happen!
URL:https://sheboygancountycycling.org/event/rocky-knoll-group-ride-new-trails/
LOCATION:Rocky Knoll Trail System\, N7135 Rocky Knoll Parkway\, Plymouth\, Wisconsin\, 53073
CATEGORIES:Group Rides
ATTACH;FMTTYPE=image/jpeg:https://sheboygancountycycling.org/wp-content/uploads/2025/08/rocky-knoll-mtb-flow-trail-plymouth-wisconsin-sheboygan-county-cycling.jpg
END:VEVENT
BEGIN:VEVENT
DTSTART;TZID=America/Chicago:20250704T080000
DTEND;TZID=America/Chicago:20250704T103000
DTSTAMP:20260422T134557
CREATED:20250701T193635Z
LAST-MODIFIED:20250702T195436Z
UID:1108-1751616000-1751625000@sheboygancountycycling.org
SUMMARY:Sheboygan 4th of July Parade
DESCRIPTION:Join SCC and ride in the Sheboygan 4th of July Parade! \nJuly 4th\, 2025\nTIME: Lineup no later than 8:30 am\, Parade starts at 9:00 am\nLOCATION: 7th Street just north of Center Street (spot 53 on the map below) *Enter North 7th Street at Pennsylvania Ave or Center Ave or New York Ave at North 6th Street. \nJoin us for a fun morning celebrating Independence Day and handing out candy and flyers for SCC kids bike playgrounds and other events! We are joining EOS to put together an outdoor themed segment of the parade. We will have a banner we will need volunteers to carry\, and all are encouraged to bring a bike along. Families are welcome\, all kids need an adult accompanying them. \nParade Lineup Location:
URL:https://sheboygancountycycling.org/event/sheboygan-4th-of-july-parade/
CATEGORIES:Group Rides,Social Events
ATTACH;FMTTYPE=image/jpeg:https://sheboygancountycycling.org/wp-content/uploads/2025/07/070125-sheboygan-4th-of-july-parade-with-sheboygan-county-cycling.jpg
END:VEVENT
BEGIN:VEVENT
DTSTART;TZID=America/Chicago:20250608T110000
DTEND;TZID=America/Chicago:20250608T170000
DTSTAMP:20260422T134557
CREATED:20250522T150656Z
LAST-MODIFIED:20250522T150656Z
UID:938-1749380400-1749402000@sheboygancountycycling.org
SUMMARY:2025 SCC Bike and Family Fest
DESCRIPTION:Join us for the 3rd annual Bike Festival to wrap up Wisconsin Bike Week! This year we are partnering with 3 Sheeps Brewing to bring food trucks\, bouncy houses\, and other family-focused activities to the event! \nVolunteer today by following this link!  https://forms.gle/eUC1fywSZPc2gjzx9 \nWhat to expect this year? \n\nRoad & MB group rides\nKid’s bike playground\nBouncy houses and other kids’ activities\nFood trucks\n50/50 raffle\nDJ music\n\nMore details to come! \nThank you to all of our 2025 sponsors who support us through out the year and enable us to do amazing events like this!\niVars USA\n3 Sheeps Brewing\nOpen Road Upfitters\nSparkworks Marketing & Web Design\nBetter Life Chiropractic & Wellness\nBizCFOs\nInnovative Solutions CFOs | CPAs | Advisors\nSchwaller’s Painting\, Staining & Drywall\nStadium Bike – Trek Sheboygan\nWolf’a Cycling and Fitness\nAttitude Sports\nLakeland Chiropractic\nStyled Aesthetic Design Apparel\nThe Watershed Hotel\nVan Horn Automotive
URL:https://sheboygancountycycling.org/event/2025-scc-bike-and-family-fest/
LOCATION:3 Sheeps Brewery\, 1837 North Avenue\, Sheboygan\, Wisconsin\, 53083
CATEGORIES:Bike Playground,Group Rides,Social Events
ATTACH;FMTTYPE=image/jpeg:https://sheboygancountycycling.org/wp-content/uploads/2025/05/052225-bike-festival-sheboygan-june-8-2025.jpg
END:VEVENT
BEGIN:VEVENT
DTSTART;TZID=America/Chicago:20250503T100000
DTEND;TZID=America/Chicago:20250503T130000
DTSTAMP:20260422T134557
CREATED:20250409T155939Z
LAST-MODIFIED:20250409T155939Z
UID:832-1746266400-1746277200@sheboygancountycycling.org
SUMMARY:Group Ride for International Women's Mountain Biking Day
DESCRIPTION:Join us for a group ride and social to celebrate International Women’s Mountain Biking Day! \nDate: Saturday\, May 3rd\, 2025\nTime: 10:00 am\nStarting spot: Quarry Lot\, 3401 Calumet Dr\, Sheboygan\, WI 53083 \nNo Drop\, GPS file can be provided. Mountain or Fatbikes welcome! Refreshments at the ride will be provided by SCC. Join us for an after-ride social at 3 Sheeps Brewing just around the corner. \nNeed a loaner bike? Let us know! We have a limited number shared by community members.
URL:https://sheboygancountycycling.org/event/group-ride-for-international-womens-mountain-biking-day/
CATEGORIES:Group Rides,Social Events
ATTACH;FMTTYPE=image/jpeg:https://sheboygancountycycling.org/wp-content/uploads/2025/04/050325-womens-mountain-biking-day-group-ride-evergreen-park-sheboygan.jpg
END:VEVENT
BEGIN:VEVENT
DTSTART;TZID=America/Chicago:20241127T170000
DTEND;TZID=America/Chicago:20241127T190000
DTSTAMP:20260422T134557
CREATED:20241115T144308Z
LAST-MODIFIED:20241122T161212Z
UID:559-1732726800-1732734000@sheboygancountycycling.org
SUMMARY:Group Ride Making Spirits Bright Nov 27th 2024
DESCRIPTION:Follow our Facebook event for updates!\n\n\nJoin us for a Jolly Jaunt through the Making Spirits Bright Holiday Light Show in Evergreen Park November 27th\, 2024 from 5:00 – 7:00 pm. We will meet at the Quarry Building at 5:00 pm and gather non perishable food items for a group donation to the Sheboygan County Food Bank. Free coffee\, cookies and cocoa! A dirt ride will take place after this event for those with an off road inclination.\n\n\nWe are anticipating a large turnout at this event. Please consider carpooling. If the lot is at capacity\, our overflow parking recommendation is to park by Shaw Playground and bike to the start.\n\n  \nGroup Ride Start Times\nThe starting location will be the quarry lot – see the map below. We will ride as a group under Calumet into the park. Deck your bike with festive lights and sport a costume if you’d like! If you have a portable radio with an FM tuner that you can comfortably carry\, bring it along so you can hear the music the lights are choreographed to. We will have access to the light show in Evergreen Park without any vehicle traffic making this a safe\, all ages and all abilities bike ride! \n5:30 pm – First Wave of Riders: Experienced and faster Riders\n5:40 pm – Second Wave of Riders: Families\, Kids\, and Slower Riders\n5:45 pm – The dirt Ride Departs from the Quarry Building. Helmets and Bike Lights are Required. Experienced Nighttime Off-Road Riders Only\, Please! \n\nIf you don’t want the fantastical evening to end for you at 7:00 pm\, you are welcome to join your fellow merry makers on wheels at 3 Sheeps following the ride! Can’t wait to see you there!!
URL:https://sheboygancountycycling.org/event/group-ride-making-spirits-bright-nov-27th-2024/
LOCATION:Evergreen Park Sheboygan\, 3000 Calumet Drive\, Sheboygan\, WI\, 53083
CATEGORIES:Group Rides
ATTACH;FMTTYPE=image/jpeg:https://sheboygancountycycling.org/wp-content/uploads/2024/11/112724-making-spirits-bright-group-bike-ride-sheboygan-county-cycling.jpg
END:VEVENT
BEGIN:VEVENT
DTSTART;TZID=America/Chicago:20241005T140000
DTEND;TZID=America/Chicago:20241006T100000
DTSTAMP:20260422T134557
CREATED:20240715T205951Z
LAST-MODIFIED:20240923T185546Z
UID:301-1728136800-1728208800@sheboygancountycycling.org
SUMMARY:Bikepacking Overnight at Mauthe Lake Oct 5th 2024
DESCRIPTION:Join us for the first Sheboygan County Cycling Bikepacking trip! We will plan to depart from the Greenbush Recreation Area lot at 2 pm on Saturday\, October 5th. This is a 20-mile leisurely ride through the kettles and along the lake-to-lake bike path out to our camp sites in the Mauthe Lake Campground. In the spirit of keeping things simple we will plan to roll over to a local restaurant for food. So you’re free to keep your camp stove at home. We will have a support vehicle\, and are happy to help provide guidance/tips for any first timers! \nWe’re looking forward to dipping our toes into the Bikepacking world with you all! \nFollow the event on Facebook: https://www.facebook.com/share/cnB8Wsi9wJHDxkZ3/ \nContact Jacob Meicher for details and to sign up!
URL:https://sheboygancountycycling.org/event/bikepacking-overnight-at-mauthe-lake-oct-5th-2024/
LOCATION:Mauthe Lake Campground\, N1490 Co Rd GGG\, Campbellsport\, Wisconsin\, 53010
CATEGORIES:Group Rides
ATTACH;FMTTYPE=image/jpeg:https://sheboygancountycycling.org/wp-content/uploads/2024/07/100524-sheboygan-county-cycling-bikepacking-overnight-kettle-moraine-greenbush.jpg
END:VEVENT
BEGIN:VEVENT
DTSTART;TZID=America/Chicago:20240608T110000
DTEND;TZID=America/Chicago:20240608T170000
DTSTAMP:20260422T134557
CREATED:20240715T205926Z
LAST-MODIFIED:20240729T223729Z
UID:299-1717844400-1717866000@sheboygancountycycling.org
SUMMARY:SCC Bike Festival June 9th 2024
DESCRIPTION:Join us on Sunday\, June 9th for a day of fun with bikes! Sheboygan County Cycling Festival is returning for the 2nd year with 3 Sheeps Brewing hosting us once again! The festival will finish off a week of fun events put on in the area by other organizations.\nJoin us for the bike playground setup during the whole event. New this year\, we will have 5 loaner bikes thanks to Trek Store Sheboygan. Come on down and lets get kids out on bikes!\n* Group rides throughout the day\, see the pinned comment for the schedule!\n* Kid craft zone!\n* Event exclusive beer brewed by 3 Sheeps!\n* Food Trucks\n* And lots of family fun! \nNew this year\, we have a photo station setup for the whole month of June as we are 3 Sheeps Brewing Company spotlight of the month! Come on out and check out the display\, take a photo\, and hang out with us tomorrow! \nThank you to all of our 2024 sponsors who support us through out the year and enable us to do amazing events like this!\niVars USA\n3 Sheeps Brewing\nOpen Road Upfitters\nWolf’a Cycling and Fitness\nStadium Bike – Trek Sheboygan\nSchwaller’s Painting\, Staining & Drywall\nBetter Life Chiropractic & Wellness\nVan Horn Automotive\nLakeland Chiropractic\nRockline Industries\nThomas by Ingersoll Rand
URL:https://sheboygancountycycling.org/event/scc-bike-festival-june-9th-2024/
CATEGORIES:Bike Playground,Group Rides
ATTACH;FMTTYPE=image/jpeg:https://sheboygancountycycling.org/wp-content/uploads/2024/07/june-2024-scc-bike-festival-group-ride-road-3-sheeps-brewing-sheboygan.jpg
END:VEVENT
END:VCALENDAR