BEGIN:VCALENDAR
VERSION:2.0
PRODID:-//Sheboygan County Cycling - ECPv6.15.18//NONSGML v1.0//EN
CALSCALE:GREGORIAN
METHOD:PUBLISH
X-ORIGINAL-URL:https://sheboygancountycycling.org
X-WR-CALDESC:Events for Sheboygan County Cycling
REFRESH-INTERVAL;VALUE=DURATION:PT1H
X-Robots-Tag:noindex
X-PUBLISHED-TTL:PT1H
BEGIN:VTIMEZONE
TZID:America/Chicago
BEGIN:DAYLIGHT
TZOFFSETFROM:-0600
TZOFFSETTO:-0500
TZNAME:CDT
DTSTART:20230312T080000
END:DAYLIGHT
BEGIN:STANDARD
TZOFFSETFROM:-0500
TZOFFSETTO:-0600
TZNAME:CST
DTSTART:20231105T070000
END:STANDARD
BEGIN:DAYLIGHT
TZOFFSETFROM:-0600
TZOFFSETTO:-0500
TZNAME:CDT
DTSTART:20240310T080000
END:DAYLIGHT
BEGIN:STANDARD
TZOFFSETFROM:-0500
TZOFFSETTO:-0600
TZNAME:CST
DTSTART:20241103T070000
END:STANDARD
BEGIN:DAYLIGHT
TZOFFSETFROM:-0600
TZOFFSETTO:-0500
TZNAME:CDT
DTSTART:20250309T080000
END:DAYLIGHT
BEGIN:STANDARD
TZOFFSETFROM:-0500
TZOFFSETTO:-0600
TZNAME:CST
DTSTART:20251102T070000
END:STANDARD
END:VTIMEZONE
BEGIN:VEVENT
DTSTART;TZID=America/Chicago:20241027T120000
DTEND;TZID=America/Chicago:20241027T153000
DTSTAMP:20260422T142439
CREATED:20241003T223034Z
LAST-MODIFIED:20241003T223034Z
UID:541-1730030400-1730043000@sheboygancountycycling.org
SUMMARY:Greenbush Mountain Bike Trail Care Day
DESCRIPTION:Join us for a trail Care Day at Greenbush! The focus will be on preparing the trail for winter grooming and a faster spring dry. More details to come!\n\nLOCATION: Greenbush lower lot trailhead\, N5854 Kettle Moraine Drive\, Glenbeulah\, WI 53023\nSCC will provide:\n\nBeverages and snacks to all volunteers!\nLimited number of tools\nInstructions and a great time with friends!\n\nFollow updates on our Facebook event: https://www.facebook.com/events/522009653873899/
URL:https://sheboygancountycycling.org/event/greenbush-mountain-bike-trail-care-day/
LOCATION:Greenbush Lower Lot Trailhead\, N5854 Kettle Moraine Drive\, Glenbeulah\, WI\, 53023
CATEGORIES:Trail Care Day
ATTACH;FMTTYPE=image/jpeg:https://sheboygancountycycling.org/wp-content/uploads/2024/10/102724-greenbush-mountain-bike-trail-care-day.jpg
END:VEVENT
BEGIN:VEVENT
DTSTART;TZID=America/Chicago:20241010T160000
DTEND;TZID=America/Chicago:20241010T180000
DTSTAMP:20260422T142439
CREATED:20241003T221435Z
LAST-MODIFIED:20250707T173746Z
UID:537-1728576000-1728583200@sheboygancountycycling.org
SUMMARY:Evergreen Park Trail Care Day
DESCRIPTION:Join fellow trail lovers in helping to make a Beginner Friendly “Green” trail at Evergreen Park in Sheboygan!The trail we are working on is an existing trail. We will be reworking select spots on this trail to offer an easy rolling option while still trying to preserve the more challenging aspects that many current riders enjoy.Tools are limited so if you can\, please bring:\n\nWheelbarrows\, carts\, tarps\, or buckets for moving soil\nDigging shovels\nHard rakes for grading soil\nLeaf Rakes\nHand tampers for packing soil\n\nFree refreshments will be provided!Park at Shaw Playground or along Pine Grove Avenue.Get excited!! This is going to be so much fun and a much needed addition to the Evergreen Park Trails!\n\nFollow updates on our Facebook event: https://www.facebook.com/events/1242863880184998/
URL:https://sheboygancountycycling.org/event/evergreen-park-trail-care-day-2/
LOCATION:Evergreen Park Sheboygan\, 3000 Calumet Drive\, Sheboygan\, WI\, 53083
CATEGORIES:Trail Care Day
ATTACH;FMTTYPE=image/jpeg:https://sheboygancountycycling.org/wp-content/uploads/2024/10/101024-evergreen-park-sheboygan-mountain-bike-trail-care-day-s.jpg
END:VEVENT
BEGIN:VEVENT
DTSTART;TZID=America/Chicago:20241005T140000
DTEND;TZID=America/Chicago:20241006T100000
DTSTAMP:20260422T142439
CREATED:20240715T205951Z
LAST-MODIFIED:20240923T185546Z
UID:301-1728136800-1728208800@sheboygancountycycling.org
SUMMARY:Bikepacking Overnight at Mauthe Lake Oct 5th 2024
DESCRIPTION:Join us for the first Sheboygan County Cycling Bikepacking trip! We will plan to depart from the Greenbush Recreation Area lot at 2 pm on Saturday\, October 5th. This is a 20-mile leisurely ride through the kettles and along the lake-to-lake bike path out to our camp sites in the Mauthe Lake Campground. In the spirit of keeping things simple we will plan to roll over to a local restaurant for food. So you’re free to keep your camp stove at home. We will have a support vehicle\, and are happy to help provide guidance/tips for any first timers! \nWe’re looking forward to dipping our toes into the Bikepacking world with you all! \nFollow the event on Facebook: https://www.facebook.com/share/cnB8Wsi9wJHDxkZ3/ \nContact Jacob Meicher for details and to sign up!
URL:https://sheboygancountycycling.org/event/bikepacking-overnight-at-mauthe-lake-oct-5th-2024/
LOCATION:Mauthe Lake Campground\, N1490 Co Rd GGG\, Campbellsport\, Wisconsin\, 53010
CATEGORIES:Group Rides
ATTACH;FMTTYPE=image/jpeg:https://sheboygancountycycling.org/wp-content/uploads/2024/07/100524-sheboygan-county-cycling-bikepacking-overnight-kettle-moraine-greenbush.jpg
END:VEVENT
BEGIN:VEVENT
DTSTART;TZID=America/Chicago:20240921T090000
DTEND;TZID=America/Chicago:20240921T160000
DTSTAMP:20260422T142439
CREATED:20240729T221910Z
LAST-MODIFIED:20240729T221910Z
UID:424-1726909200-1726934400@sheboygancountycycling.org
SUMMARY:Bike Playground at SCC Classic Sept 21st 2024
DESCRIPTION:Bring the family for some cycling fun at an SCC bike playground\, full of fun and safe obstacles to help young cyclists learn and build confidence. Pedal bikes are available for the little tikes to use\, compliments of our friends at Trek Sheboygan! \n\nExciting ramps: Test your skills on ramps of different heights and angles.\nObstacle course: Navigate through an exciting obstacle course designed for all ages.\nFamily-friendly: Perfect for riders of all ages and skill levels.\nLoads of fun: It’s not just a playground; it’s a cycling adventure!\n\n2024 Schedule \nJune 9th – SCC Annual Bike Festival – 3 Sheeps Brewery\, Sheboygan – 11:00 am – 5:00 pm\nJuly 3rd – Farmer’s Market – Fountain Park\, Sheboygan – 9:00 am – 2:00 pm\nJuly 10th – Behind Shaw Family Playground at Evergreen Park\, Sheboygan – 9:00 am – 3:00 pm\nJuly 17th – Behind Shaw Family Playground at Evergreen Park\, Sheboygan – 9:00 am – 3:00 pm\nAugust 8th – Behind Shaw Family Playground at Evergreen Park\, Sheboygan – 9:00 am – 3:00 pm\nAugust 17th – Farmer’s Market – Fountain Park\, Sheboygan – 9:00 am – 2:00 pm\nAugust 21st – Farmer’s Market – Fountain Park\, Sheboygan – 9:00 am – 2:00 pm\nSeptember 21st – SCC Classic Cyclocross Race – Quarry Park\, Sheboygan – 9:00 am – 4:00 pm
URL:https://sheboygancountycycling.org/event/bike-playground-at-scc-classic-sept-21st-2024/
LOCATION:Quarry Park Sheboygan\, 3401 Calumet Dr\, Sheboygan\, WI\, 53083
CATEGORIES:Bike Playground
ATTACH;FMTTYPE=image/jpeg:https://sheboygancountycycling.org/wp-content/uploads/2024/07/kids-bike-playground-2023-scc-classic-cyclocross-race-sheboygan.jpg
END:VEVENT
BEGIN:VEVENT
DTSTART;TZID=America/Chicago:20240821T090000
DTEND;TZID=America/Chicago:20240821T140000
DTSTAMP:20260422T142439
CREATED:20240729T221547Z
LAST-MODIFIED:20240729T221547Z
UID:422-1724230800-1724248800@sheboygancountycycling.org
SUMMARY:SCC Bike Playground Aug 21st 2024
DESCRIPTION:Bring the family for some cycling fun at an SCC bike playground\, full of fun and safe obstacles to help young cyclists learn and build confidence. Pedal bikes are available for the little tikes to use\, compliments of our friends at Trek Sheboygan! \n\nExciting ramps: Test your skills on ramps of different heights and angles.\nObstacle course: Navigate through an exciting obstacle course designed for all ages.\nFamily-friendly: Perfect for riders of all ages and skill levels.\nLoads of fun: It’s not just a playground; it’s a cycling adventure!\n\n2024 Schedule \nJune 9th – SCC Annual Bike Festival – 3 Sheeps Brewery\, Sheboygan – 11:00 am – 5:00 pm\nJuly 3rd – Farmer’s Market – Fountain Park\, Sheboygan – 9:00 am – 2:00 pm\nJuly 10th – Behind Shaw Family Playground at Evergreen Park\, Sheboygan – 9:00 am – 3:00 pm\nJuly 17th – Behind Shaw Family Playground at Evergreen Park\, Sheboygan – 9:00 am – 3:00 pm\nAugust 8th – Behind Shaw Family Playground at Evergreen Park\, Sheboygan – 9:00 am – 3:00 pm\nAugust 17th – Farmer’s Market – Fountain Park\, Sheboygan – 9:00 am – 2:00 pm\nAugust 21st – Farmer’s Market – Fountain Park\, Sheboygan – 9:00 am – 2:00 pm\nSeptember 21st – SCC Classic Cyclocross Race – Quarry Park\, Sheboygan – 9:00 am – 4:00 pm
URL:https://sheboygancountycycling.org/event/scc-bike-playground-aug-21st-2024/
LOCATION:Fountain Park Sheboygan\, 1000 N 8th St\, Sheboygan\, WI\, 53081
CATEGORIES:Bike Playground
ATTACH;FMTTYPE=image/jpeg:https://sheboygancountycycling.org/wp-content/uploads/2024/07/june-2024-scc-bike-festival-bicycle-playground-3-sheeps-brewing-sheboygan-3.jpg
END:VEVENT
BEGIN:VEVENT
DTSTART;TZID=America/Chicago:20240817T090000
DTEND;TZID=America/Chicago:20240817T140000
DTSTAMP:20260422T142439
CREATED:20240729T221409Z
LAST-MODIFIED:20240729T221409Z
UID:419-1723885200-1723903200@sheboygancountycycling.org
SUMMARY:SCC Bike Playground Aug 17th 2024
DESCRIPTION:Bring the family for some cycling fun at an SCC bike playground\, full of fun and safe obstacles to help young cyclists learn and build confidence. Pedal bikes are available for the little tikes to use\, compliments of our friends at Trek Sheboygan! \n\nExciting ramps: Test your skills on ramps of different heights and angles.\nObstacle course: Navigate through an exciting obstacle course designed for all ages.\nFamily-friendly: Perfect for riders of all ages and skill levels.\nLoads of fun: It’s not just a playground; it’s a cycling adventure!\n\n2024 Schedule \nJune 9th – SCC Annual Bike Festival – 3 Sheeps Brewery\, Sheboygan – 11:00 am – 5:00 pm\nJuly 3rd – Farmer’s Market – Fountain Park\, Sheboygan – 9:00 am – 2:00 pm\nJuly 10th – Behind Shaw Family Playground at Evergreen Park\, Sheboygan – 9:00 am – 3:00 pm\nJuly 17th – Behind Shaw Family Playground at Evergreen Park\, Sheboygan – 9:00 am – 3:00 pm\nAugust 8th – Behind Shaw Family Playground at Evergreen Park\, Sheboygan – 9:00 am – 3:00 pm\nAugust 17th – Farmer’s Market – Fountain Park\, Sheboygan – 9:00 am – 2:00 pm\nAugust 21st – Farmer’s Market – Fountain Park\, Sheboygan – 9:00 am – 2:00 pm\nSeptember 21st – SCC Classic Cyclocross Race – Quarry Park\, Sheboygan – 9:00 am – 4:00 pm
URL:https://sheboygancountycycling.org/event/scc-bike-playground-aug-17th-2024/
LOCATION:Fountain Park Sheboygan\, 1000 N 8th St\, Sheboygan\, WI\, 53081
CATEGORIES:Bike Playground
ATTACH;FMTTYPE=image/jpeg:https://sheboygancountycycling.org/wp-content/uploads/2024/07/june-2024-scc-bike-festival-bicycle-playground-3-sheeps-brewing-sheboygan.jpg
END:VEVENT
BEGIN:VEVENT
DTSTART;TZID=America/Chicago:20240808T090000
DTEND;TZID=America/Chicago:20240808T150000
DTSTAMP:20260422T142439
CREATED:20240715T205826Z
LAST-MODIFIED:20240729T204116Z
UID:297-1723107600-1723129200@sheboygancountycycling.org
SUMMARY:SCC Bike Playground Aug 8th 2024
DESCRIPTION:Bring the family for some cycling fun at an SCC bike playground\, full of fun and safe obstacles to help young cyclists learn and build confidence. Pedal bikes are available for the little tikes to use\, compliments of our friends at Trek Sheboygan! \n\nExciting ramps: Test your skills on ramps of different heights and angles.\nObstacle course: Navigate through an exciting obstacle course designed for all ages.\nFamily-friendly: Perfect for riders of all ages and skill levels.\nLoads of fun: It’s not just a playground; it’s a cycling adventure!\n\n2024 Schedule \nJune 9th – SCC Annual Bike Festival – 3 Sheeps Brewery\, Sheboygan – 11:00 am – 5:00 pm\nJuly 3rd – Farmer’s Market – Fountain Park\, Sheboygan – 9:00 am – 2:00 pm\nJuly 10th – Behind Shaw Family Playground at Evergreen Park\, Sheboygan – 9:00 am – 3:00 pm\nJuly 17th – Behind Shaw Family Playground at Evergreen Park\, Sheboygan – 9:00 am – 3:00 pm\nAugust 8th – Behind Shaw Family Playground at Evergreen Park\, Sheboygan – 9:00 am – 3:00 pm\nAugust 17th – Farmer’s Market – Fountain Park\, Sheboygan – 9:00 am – 2:00 pm\nAugust 21st – Farmer’s Market – Fountain Park\, Sheboygan – 9:00 am – 2:00 pm\nSeptember 21st – SCC Classic Cyclocross Race – Quarry Park\, Sheboygan – 9:00 am – 4:00 pm
URL:https://sheboygancountycycling.org/event/scc-bike-playground-aug-8th-2024/
LOCATION:Shaw Family Playground in Evergreen Park\, 2614 Pine Grove Avenue\, Sheboygan\, WI\, 53083\, United States
CATEGORIES:Bike Playground
ATTACH;FMTTYPE=image/jpeg:https://sheboygancountycycling.org/wp-content/uploads/2024/07/june-2024-scc-bike-festival-bicycle-playground-3-sheeps-brewing-sheboygan-2.jpg
END:VEVENT
BEGIN:VEVENT
DTSTART;TZID=America/Chicago:20240608T110000
DTEND;TZID=America/Chicago:20240608T170000
DTSTAMP:20260422T142439
CREATED:20240715T205926Z
LAST-MODIFIED:20240729T223729Z
UID:299-1717844400-1717866000@sheboygancountycycling.org
SUMMARY:SCC Bike Festival June 9th 2024
DESCRIPTION:Join us on Sunday\, June 9th for a day of fun with bikes! Sheboygan County Cycling Festival is returning for the 2nd year with 3 Sheeps Brewing hosting us once again! The festival will finish off a week of fun events put on in the area by other organizations.\nJoin us for the bike playground setup during the whole event. New this year\, we will have 5 loaner bikes thanks to Trek Store Sheboygan. Come on down and lets get kids out on bikes!\n* Group rides throughout the day\, see the pinned comment for the schedule!\n* Kid craft zone!\n* Event exclusive beer brewed by 3 Sheeps!\n* Food Trucks\n* And lots of family fun! \nNew this year\, we have a photo station setup for the whole month of June as we are 3 Sheeps Brewing Company spotlight of the month! Come on out and check out the display\, take a photo\, and hang out with us tomorrow! \nThank you to all of our 2024 sponsors who support us through out the year and enable us to do amazing events like this!\niVars USA\n3 Sheeps Brewing\nOpen Road Upfitters\nWolf’a Cycling and Fitness\nStadium Bike – Trek Sheboygan\nSchwaller’s Painting\, Staining & Drywall\nBetter Life Chiropractic & Wellness\nVan Horn Automotive\nLakeland Chiropractic\nRockline Industries\nThomas by Ingersoll Rand
URL:https://sheboygancountycycling.org/event/scc-bike-festival-june-9th-2024/
LOCATION:WI
CATEGORIES:Bike Playground,Group Rides
ATTACH;FMTTYPE=image/jpeg:https://sheboygancountycycling.org/wp-content/uploads/2024/07/june-2024-scc-bike-festival-group-ride-road-3-sheeps-brewing-sheboygan.jpg
END:VEVENT
BEGIN:VEVENT
DTSTART;TZID=America/Chicago:20240605T170000
DTEND;TZID=America/Chicago:20240605T190000
DTSTAMP:20260422T142439
CREATED:20240730T181534Z
LAST-MODIFIED:20240730T181534Z
UID:452-1717606800-1717614000@sheboygancountycycling.org
SUMMARY:Evergreen & Quarry Park Trail Care Day June 5th 2024
DESCRIPTION:Greetings trail community!\nWe have an SCC Trail Care Day volunteer opportunity for you all!\nThe trails need overgrowth trimmed back from the tread and we need your help.\nMeet at the Quarry Parking Lot at 5:00 pm.\nBring string trimmers\, rakes\, hand pruners\, and blowers.\nThere will be a check in sheet to fill out prior to work beginning.\nHang with friends and make new ones while making our trails ride rad 🚲\nMany hands make light work\, we look forward to seeing you there!
URL:https://sheboygancountycycling.org/event/evergreen-quarry-park-trail-care-day-june-5th-2024/
LOCATION:Quarry Park Sheboygan\, 3401 Calumet Dr\, Sheboygan\, WI\, 53083
CATEGORIES:Trail Care Day
ATTACH;FMTTYPE=image/jpeg:https://sheboygancountycycling.org/wp-content/uploads/2024/06/060524-scc-evergreen-park-mountain-bike-trail-care-day-sheboygan.jpg
END:VEVENT
END:VCALENDAR